BEGIN:VCALENDAR
VERSION:2.0
PRODID:-//Neuhaus Education Center - ECPv6.15.20//NONSGML v1.0//EN
CALSCALE:GREGORIAN
METHOD:PUBLISH
X-ORIGINAL-URL:https://neuhaus.org/es
X-WR-CALDESC:Eventos para Neuhaus Education Center
REFRESH-INTERVAL;VALUE=DURATION:PT1H
X-Robots-Tag:noindex
X-PUBLISHED-TTL:PT1H
BEGIN:VTIMEZONE
TZID:America/Mexico_City
BEGIN:STANDARD
TZOFFSETFROM:-0600
TZOFFSETTO:-0600
TZNAME:CST
DTSTART:20250101T000000
END:STANDARD
END:VTIMEZONE
BEGIN:VEVENT
DTSTART;TZID=America/Mexico_City:20260724T090000
DTEND;TZID=America/Mexico_City:20260724T103000
DTSTAMP:20260423T152343
CREATED:20260107T211611Z
LAST-MODIFIED:20260306T191652Z
UID:10002872-1784883600-1784889000@neuhaus.org
SUMMARY:Strategy Series: Syllable Division (Virtual)
DESCRIPTION:Registration: Strategy Series: Syllable Division (Virtual)
URL:https://neuhaus.org/es/calendar/strategy-series-syllable-division-virtual/2026-07-24/
END:VEVENT
BEGIN:VEVENT
DTSTART;TZID=America/Mexico_City:20260724T110000
DTEND;TZID=America/Mexico_City:20260724T123000
DTSTAMP:20260423T152343
CREATED:20260107T193905Z
LAST-MODIFIED:20260306T191824Z
UID:10002873-1784890800-1784896200@neuhaus.org
SUMMARY:Strategy Series: Teaching Vocabulary (Virtual)
DESCRIPTION:Registration: Strategy Series: Teaching Vocabulary (Virtual)
URL:https://neuhaus.org/es/calendar/strategy-series-teaching-vocabulary-virtual/2026-07-24/
END:VEVENT
BEGIN:VEVENT
DTSTART;TZID=America/Mexico_City:20260724T130000
DTEND;TZID=America/Mexico_City:20260724T143000
DTSTAMP:20260423T152343
CREATED:20260107T200612Z
LAST-MODIFIED:20260306T191947Z
UID:10002874-1784898000-1784903400@neuhaus.org
SUMMARY:Strategy Series: Teaching Morphology (Virtual)
DESCRIPTION:Registration: Strategy Series: Teaching Morphology (Virtual)
URL:https://neuhaus.org/es/calendar/strategy-series-teaching-morphology-virtual/2026-07-24/
END:VEVENT
END:VCALENDAR