BEGIN:VCALENDAR
VERSION:2.0
PRODID:-//Neuhaus Education Center - ECPv6.15.20//NONSGML v1.0//EN
CALSCALE:GREGORIAN
METHOD:PUBLISH
X-ORIGINAL-URL:https://neuhaus.org/es
X-WR-CALDESC:Eventos para Neuhaus Education Center
REFRESH-INTERVAL;VALUE=DURATION:PT1H
X-Robots-Tag:noindex
X-PUBLISHED-TTL:PT1H
BEGIN:VTIMEZONE
TZID:America/Mexico_City
BEGIN:STANDARD
TZOFFSETFROM:-0600
TZOFFSETTO:-0600
TZNAME:CST
DTSTART:20250101T000000
END:STANDARD
END:VTIMEZONE
BEGIN:VTIMEZONE
TZID:America/Kentucky/Louisville
BEGIN:DAYLIGHT
TZOFFSETFROM:-0500
TZOFFSETTO:-0400
TZNAME:EDT
DTSTART:20250309T070000
END:DAYLIGHT
BEGIN:STANDARD
TZOFFSETFROM:-0400
TZOFFSETTO:-0500
TZNAME:EST
DTSTART:20251102T060000
END:STANDARD
BEGIN:DAYLIGHT
TZOFFSETFROM:-0500
TZOFFSETTO:-0400
TZNAME:EDT
DTSTART:20260308T070000
END:DAYLIGHT
BEGIN:STANDARD
TZOFFSETFROM:-0400
TZOFFSETTO:-0500
TZNAME:EST
DTSTART:20261101T060000
END:STANDARD
BEGIN:DAYLIGHT
TZOFFSETFROM:-0500
TZOFFSETTO:-0400
TZNAME:EDT
DTSTART:20270314T070000
END:DAYLIGHT
BEGIN:STANDARD
TZOFFSETFROM:-0400
TZOFFSETTO:-0500
TZNAME:EST
DTSTART:20271107T060000
END:STANDARD
END:VTIMEZONE
BEGIN:VEVENT
DTSTART;TZID=America/Mexico_City:20260706T083000
DTEND;TZID=America/Mexico_City:20260706T120000
DTSTAMP:20260421T104106
CREATED:20260105T221740Z
LAST-MODIFIED:20260306T191057Z
UID:10002868-1783326600-1783339200@neuhaus.org
SUMMARY:Written Composition Fundamentals (Virtual)
DESCRIPTION:Registration: Written Composition Fundamentals (Virtual)
URL:https://neuhaus.org/es/calendar/written-composition-fundamentals-virtual/2026-07-06/
END:VEVENT
BEGIN:VEVENT
DTSTART;TZID=America/Kentucky/Louisville:20260706T130000
DTEND;TZID=America/Kentucky/Louisville:20260706T163000
DTSTAMP:20260421T104106
CREATED:20240509T144633Z
LAST-MODIFIED:20260306T191255Z
UID:10002869-1783342800-1783355400@neuhaus.org
SUMMARY:Multisensory Grammar (Virtual)
DESCRIPTION:In Multisensory Grammar\, participants learn: \n\n\n\n\n\n1) activities that make the abstract concept of grammar concrete;\n2) strategies for increasing students’ sentence complexity when writing; and\n3) to use of parts of speech in the construction and revision of written paragraphs.\n\n\n\nParticipants also engage in collaborative activities that extend their learning and can be presented to their students.
URL:https://neuhaus.org/es/calendar/multisensory-grammar-virtual-7/2026-07-06/
LOCATION:Virtual
CATEGORIES:Professional Development Class
END:VEVENT
END:VCALENDAR