BEGIN:VCALENDAR
VERSION:2.0
PRODID:-//Neuhaus Education Center - ECPv6.15.20//NONSGML v1.0//EN
CALSCALE:GREGORIAN
METHOD:PUBLISH
X-WR-CALNAME:Neuhaus Education Center
X-ORIGINAL-URL:https://neuhaus.org/es
X-WR-CALDESC:Eventos para Neuhaus Education Center
REFRESH-INTERVAL;VALUE=DURATION:PT1H
X-Robots-Tag:noindex
X-PUBLISHED-TTL:PT1H
BEGIN:VTIMEZONE
TZID:America/Kentucky/Louisville
BEGIN:DAYLIGHT
TZOFFSETFROM:-0500
TZOFFSETTO:-0400
TZNAME:EDT
DTSTART:20250309T070000
END:DAYLIGHT
BEGIN:STANDARD
TZOFFSETFROM:-0400
TZOFFSETTO:-0500
TZNAME:EST
DTSTART:20251102T060000
END:STANDARD
BEGIN:DAYLIGHT
TZOFFSETFROM:-0500
TZOFFSETTO:-0400
TZNAME:EDT
DTSTART:20260308T070000
END:DAYLIGHT
BEGIN:STANDARD
TZOFFSETFROM:-0400
TZOFFSETTO:-0500
TZNAME:EST
DTSTART:20261101T060000
END:STANDARD
BEGIN:DAYLIGHT
TZOFFSETFROM:-0500
TZOFFSETTO:-0400
TZNAME:EDT
DTSTART:20270314T070000
END:DAYLIGHT
BEGIN:STANDARD
TZOFFSETFROM:-0400
TZOFFSETTO:-0500
TZNAME:EST
DTSTART:20271107T060000
END:STANDARD
END:VTIMEZONE
BEGIN:VTIMEZONE
TZID:America/Mexico_City
BEGIN:STANDARD
TZOFFSETFROM:-0600
TZOFFSETTO:-0600
TZNAME:CST
DTSTART:20250101T000000
END:STANDARD
END:VTIMEZONE
BEGIN:VEVENT
DTSTART;TZID=America/Kentucky/Louisville:20260622T090000
DTEND;TZID=America/Kentucky/Louisville:20260626T150000
DTSTAMP:20260423T152241
CREATED:20260306T185341Z
LAST-MODIFIED:20260306T193345Z
UID:10000985-1782118800-1782486000@neuhaus.org
SUMMARY:Language Enrichment (Virtual)
DESCRIPTION:Language Enrichment is a structured literacy curriculum that enables teachers to teach successful decoding for students in grades 1-3. In Language Enrichment\, participants learn how and why instruction in structured literacy is effective with helping students become skilled readers. The coursework covers: \n1) decoding and encoding concepts including reliable reading and spelling patterns;\n2) building fluency and accuracy in reading connected text;\n3) building oral language and world knowledge;\n4) developing listening and reading comprehension with strategies; and\n5) implementing a daily 30-minute lesson plan.
URL:https://neuhaus.org/es/calendar/language-enrichment-virtual-3/
LOCATION:Virtual
CATEGORIES:Professional Development Class
END:VEVENT
BEGIN:VEVENT
DTSTART;TZID=America/Mexico_City:20260623T153000
DTEND;TZID=America/Mexico_City:20260623T170000
DTSTAMP:20260423T152241
CREATED:20260107T212734Z
LAST-MODIFIED:20260306T185633Z
UID:10001148-1782228600-1782234000@neuhaus.org
SUMMARY:Parent Pulse: Early Literacy at Home (Virtual)
DESCRIPTION:Registration: Parent Pulse: Early Literacy at Home (Virtual)
URL:https://neuhaus.org/es/calendar/parent-pulse-early-literacy-at-home-in-person-2/2026-06-23/
END:VEVENT
END:VCALENDAR