BEGIN:VCALENDAR
VERSION:2.0
PRODID:-//Neuhaus Education Center - ECPv6.15.20//NONSGML v1.0//EN
CALSCALE:GREGORIAN
METHOD:PUBLISH
X-ORIGINAL-URL:https://neuhaus.org/es
X-WR-CALDESC:Eventos para Neuhaus Education Center
REFRESH-INTERVAL;VALUE=DURATION:PT1H
X-Robots-Tag:noindex
X-PUBLISHED-TTL:PT1H
BEGIN:VTIMEZONE
TZID:America/Mexico_City
BEGIN:STANDARD
TZOFFSETFROM:-0600
TZOFFSETTO:-0600
TZNAME:CST
DTSTART:20250101T000000
END:STANDARD
END:VTIMEZONE
BEGIN:VEVENT
DTSTART;TZID=America/Mexico_City:20260512T090000
DTEND;TZID=America/Mexico_City:20260515T150000
DTSTAMP:20260421T073748
CREATED:20260107T184951Z
LAST-MODIFIED:20260306T191516Z
UID:10001075-1778576400-1778857200@neuhaus.org
SUMMARY:Structured Reading & Spelling Volume 1 & 2 (Virtual)
DESCRIPTION:Registration: Structured Reading & Spelling Volume 1 & 2 (Virtual)5-day training – Please click the link to see the schedule and learn more.
URL:https://neuhaus.org/es/calendar/structured-reading-spelling-volume-1-2-virtual-2/2026-05-12/
END:VEVENT
BEGIN:VEVENT
DTSTART;TZID=America/Mexico_City:20260515T090000
DTEND;TZID=America/Mexico_City:20260515T150000
DTSTAMP:20260421T073748
CREATED:20260107T190332Z
LAST-MODIFIED:20260107T190334Z
UID:10001082-1778835600-1778857200@neuhaus.org
SUMMARY:Structured Reading & Spelling: Certified Bridge Class (Virtual)
DESCRIPTION:Registration: Structured Reading & Spelling: Certified Bridge Class (Virtual)
URL:https://neuhaus.org/es/calendar/structured-reading-spelling-certified-bridge-class-virtual-4/
END:VEVENT
BEGIN:VEVENT
DTSTART;TZID=America/Mexico_City:20260515T090000
DTEND;TZID=America/Mexico_City:20260515T153000
DTSTAMP:20260421T073748
CREATED:20260107T185701Z
LAST-MODIFIED:20260107T185703Z
UID:10001077-1778835600-1778859000@neuhaus.org
SUMMARY:Structured Reading & Spelling: Certified Bridge Class (In Person)
DESCRIPTION:Registration: Structured Reading & Spelling: Certified Bridge Class (In Person)
URL:https://neuhaus.org/es/calendar/structured-reading-spelling-certified-bridge-class-in-person-2/
END:VEVENT
END:VCALENDAR