BEGIN:VCALENDAR
VERSION:2.0
PRODID:-//Neuhaus Education Center - ECPv6.15.20//NONSGML v1.0//EN
CALSCALE:GREGORIAN
METHOD:PUBLISH
X-WR-CALNAME:Neuhaus Education Center
X-ORIGINAL-URL:https://neuhaus.org/es
X-WR-CALDESC:Eventos para Neuhaus Education Center
REFRESH-INTERVAL;VALUE=DURATION:PT1H
X-Robots-Tag:noindex
X-PUBLISHED-TTL:PT1H
BEGIN:VTIMEZONE
TZID:America/Mexico_City
BEGIN:STANDARD
TZOFFSETFROM:-0600
TZOFFSETTO:-0600
TZNAME:CST
DTSTART:20250101T000000
END:STANDARD
END:VTIMEZONE
BEGIN:VEVENT
DTSTART;TZID=America/Mexico_City:20260307T090000
DTEND;TZID=America/Mexico_City:20260307T103000
DTSTAMP:20260425T072507
CREATED:20260107T193952Z
LAST-MODIFIED:20260107T193953Z
UID:10001093-1772874000-1772879400@neuhaus.org
SUMMARY:Strategy Series: Teaching Vocabulary (Virtual)
DESCRIPTION:Registration: Strategy Series: Teaching Vocabulary (Virtual)
URL:https://neuhaus.org/es/calendar/strategy-series-teaching-vocabulary-virtual-2/
END:VEVENT
BEGIN:VEVENT
DTSTART;TZID=America/Mexico_City:20260307T110000
DTEND;TZID=America/Mexico_City:20260307T123000
DTSTAMP:20260425T072507
CREATED:20260107T200612Z
LAST-MODIFIED:20260306T191947Z
UID:10001103-1772881200-1772886600@neuhaus.org
SUMMARY:Strategy Series: Teaching Morphology (Virtual)
DESCRIPTION:Registration: Strategy Series: Teaching Morphology (Virtual)
URL:https://neuhaus.org/es/calendar/strategy-series-teaching-morphology-virtual/2026-03-07/
END:VEVENT
BEGIN:VEVENT
DTSTART;TZID=America/Mexico_City:20260307T130000
DTEND;TZID=America/Mexico_City:20260307T143000
DTSTAMP:20260425T072507
CREATED:20260107T195605Z
LAST-MODIFIED:20260107T195608Z
UID:10001099-1772888400-1772893800@neuhaus.org
SUMMARY:Strategy Series: Teaching Fluency (Virtual)
DESCRIPTION:Registration: Strategy Series: Teaching Fluency (Virtual)
URL:https://neuhaus.org/es/calendar/strategy-series-teaching-fluency-virtual-2/
END:VEVENT
END:VCALENDAR