BEGIN:VCALENDAR
VERSION:2.0
PRODID:-//Neuhaus Education Center - ECPv6.15.20//NONSGML v1.0//EN
CALSCALE:GREGORIAN
METHOD:PUBLISH
X-ORIGINAL-URL:https://neuhaus.org/es
X-WR-CALDESC:Eventos para Neuhaus Education Center
REFRESH-INTERVAL;VALUE=DURATION:PT1H
X-Robots-Tag:noindex
X-PUBLISHED-TTL:PT1H
BEGIN:VTIMEZONE
TZID:America/Kentucky/Louisville
BEGIN:DAYLIGHT
TZOFFSETFROM:-0500
TZOFFSETTO:-0400
TZNAME:EDT
DTSTART:20240310T070000
END:DAYLIGHT
BEGIN:STANDARD
TZOFFSETFROM:-0400
TZOFFSETTO:-0500
TZNAME:EST
DTSTART:20241103T060000
END:STANDARD
BEGIN:DAYLIGHT
TZOFFSETFROM:-0500
TZOFFSETTO:-0400
TZNAME:EDT
DTSTART:20250309T070000
END:DAYLIGHT
BEGIN:STANDARD
TZOFFSETFROM:-0400
TZOFFSETTO:-0500
TZNAME:EST
DTSTART:20251102T060000
END:STANDARD
BEGIN:DAYLIGHT
TZOFFSETFROM:-0500
TZOFFSETTO:-0400
TZNAME:EDT
DTSTART:20260308T070000
END:DAYLIGHT
BEGIN:STANDARD
TZOFFSETFROM:-0400
TZOFFSETTO:-0500
TZNAME:EST
DTSTART:20261101T060000
END:STANDARD
END:VTIMEZONE
BEGIN:VTIMEZONE
TZID:America/Chicago
BEGIN:DAYLIGHT
TZOFFSETFROM:-0600
TZOFFSETTO:-0500
TZNAME:CDT
DTSTART:20240310T080000
END:DAYLIGHT
BEGIN:STANDARD
TZOFFSETFROM:-0500
TZOFFSETTO:-0600
TZNAME:CST
DTSTART:20241103T070000
END:STANDARD
BEGIN:DAYLIGHT
TZOFFSETFROM:-0600
TZOFFSETTO:-0500
TZNAME:CDT
DTSTART:20250309T080000
END:DAYLIGHT
BEGIN:STANDARD
TZOFFSETFROM:-0500
TZOFFSETTO:-0600
TZNAME:CST
DTSTART:20251102T070000
END:STANDARD
BEGIN:DAYLIGHT
TZOFFSETFROM:-0600
TZOFFSETTO:-0500
TZNAME:CDT
DTSTART:20260308T080000
END:DAYLIGHT
BEGIN:STANDARD
TZOFFSETFROM:-0500
TZOFFSETTO:-0600
TZNAME:CST
DTSTART:20261101T070000
END:STANDARD
END:VTIMEZONE
BEGIN:VEVENT
DTSTART;TZID=America/Kentucky/Louisville:20250604T090000
DTEND;TZID=America/Kentucky/Louisville:20250616T150000
DTSTAMP:20260420T041330
CREATED:20231106T125417Z
LAST-MODIFIED:20250407T164557Z
UID:10000447-1749027600-1750086000@neuhaus.org
SUMMARY:Basic Language Skills: Advanced (Virtual)
DESCRIPTION:Through coursework in Basic Language Skills and intensive supervised practicum\, participants advance their knowledge and skill in planning\, delivering\, and measuring instruction in decoding\, structural analysis\, fluency\, morphology\, comprehension\, and composition for students with dyslexia and related disorders. \nBasic Language Skills (BLS) Advanced – 9 Days / 9:00-3:00 PM / Weekdays OnlyJune 4thJune 5thJune 6thJune 9thJune 10thJune 11thJune 12thJune 13thJune 16th
URL:https://neuhaus.org/es/calendar/basic-language-skills-advanced-june/
LOCATION:Virtual
CATEGORIES:Professional Development Class
END:VEVENT
BEGIN:VEVENT
DTSTART;TZID=America/Kentucky/Louisville:20250604T090000
DTEND;TZID=America/Kentucky/Louisville:20250616T150000
DTSTAMP:20260420T041330
CREATED:20231212T201526Z
LAST-MODIFIED:20250407T163506Z
UID:10000849-1749027600-1750086000@neuhaus.org
SUMMARY:Basic Language Skills: Introduction (Virtual)
DESCRIPTION:Basic Language Skills (BLS) is a comprehensive and intensive Structured Literacy curriculum that is the core curriculum of the Dyslexia Specialist Preparation Program (DSPP). Upon completion of all the DSPP requisites including coursework\, practicums\, and documented teaching hours\, you are eligible to take the Academic Language Therapy Association (ALTA) Competency Exam for Multisensory Structured Language Education at the Certified Academic Language Therapist (CALT) or Certified Academic Language Practitioner (CALP) level. \nInterested in learning more about the Dyslexia Specialist Preparation Program (DSPP)?Preview session participation and acceptance are required before registration in the Basic Language Skills Introduction class. \nThis session is an informal meeting to discuss Basic Language Skills. The Preview Sessions last about 90 minutes and are held in the afternoons\, 4-5:30. The sessions take place on Zoom\, and you can participate from home or school via a Zoom Meeting Internet Connection that Neuhaus provides. \nBasic Language Skills (BLS) Introduction – 9 Days / 9:00-3:00 PM / Weekdays OnlyJune 4thJune 5thJune 6thJune 9thJune 10thJune 11thJune 12thJune 13thJune 16th
URL:https://neuhaus.org/es/calendar/basic-language-skills-bls-introduction-june/
LOCATION:Virtual
CATEGORIES:Professional Development Class
END:VEVENT
BEGIN:VEVENT
DTSTART;TZID=America/Chicago:20250604T100000
DTEND;TZID=America/Chicago:20250604T120000
DTSTAMP:20260420T041330
CREATED:20250429T194635Z
LAST-MODIFIED:20250429T194638Z
UID:10000969-1749031200-1749038400@neuhaus.org
SUMMARY:Virtual Monthly Information Session
DESCRIPTION:This repeating virtual presentation includes information on reading challenges\, including dyslexia\, multisensory\, research-based instruction\, and the Texas dyslexia legislation. Presentation also includes resources available at Neuhaus and within the Houston-area community. \n* To register\, please click the Register Now button below and input your information. You will receive an email confirmation of your registration.
URL:https://neuhaus.org/es/calendar/virtual-monthly-information-session-june/
LOCATION:Virtual
CATEGORIES:Information Session
END:VEVENT
END:VCALENDAR