BEGIN:VCALENDAR
VERSION:2.0
PRODID:-//Neuhaus Education Center - ECPv6.15.20//NONSGML v1.0//EN
CALSCALE:GREGORIAN
METHOD:PUBLISH
X-ORIGINAL-URL:https://neuhaus.org
X-WR-CALDESC:Events for Neuhaus Education Center
REFRESH-INTERVAL;VALUE=DURATION:PT1H
X-Robots-Tag:noindex
X-PUBLISHED-TTL:PT1H
BEGIN:VTIMEZONE
TZID:America/Kentucky/Louisville
BEGIN:DAYLIGHT
TZOFFSETFROM:-0500
TZOFFSETTO:-0400
TZNAME:EDT
DTSTART:20240310T070000
END:DAYLIGHT
BEGIN:STANDARD
TZOFFSETFROM:-0400
TZOFFSETTO:-0500
TZNAME:EST
DTSTART:20241103T060000
END:STANDARD
BEGIN:DAYLIGHT
TZOFFSETFROM:-0500
TZOFFSETTO:-0400
TZNAME:EDT
DTSTART:20250309T070000
END:DAYLIGHT
BEGIN:STANDARD
TZOFFSETFROM:-0400
TZOFFSETTO:-0500
TZNAME:EST
DTSTART:20251102T060000
END:STANDARD
BEGIN:DAYLIGHT
TZOFFSETFROM:-0500
TZOFFSETTO:-0400
TZNAME:EDT
DTSTART:20260308T070000
END:DAYLIGHT
BEGIN:STANDARD
TZOFFSETFROM:-0400
TZOFFSETTO:-0500
TZNAME:EST
DTSTART:20261101T060000
END:STANDARD
END:VTIMEZONE
BEGIN:VEVENT
DTSTART;TZID=America/Kentucky/Louisville:20250507T160000
DTEND;TZID=America/Kentucky/Louisville:20250507T170000
DTSTAMP:20260423T041923
CREATED:20250116T234004Z
LAST-MODIFIED:20250116T234005Z
UID:10000836-1746633600-1746637200@neuhaus.org
SUMMARY:Online Certification Program for Dyslexia Specialists (OCPDS) Preview Session
DESCRIPTION:Online Certification Program for Dyslexia Specialists (OCPDS) Preview Session \nOCPDS is accredited by the International Dyslexia Association as an IDA Accredited Plus Program. OCPDS maintains the high standards of this organization and keeps the Knowledge and Practice Standards (KPS) at the forefront of teacher preparation.
URL:https://neuhaus.org/calendar/online-certification-program-for-dyslexia-specialists-ocpds-preview-session-24/
LOCATION:Virtual
CATEGORIES:OCPDS
END:VEVENT
END:VCALENDAR