BEGIN:VCALENDAR
VERSION:2.0
PRODID:-//Neuhaus Education Center - ECPv6.15.20//NONSGML v1.0//EN
CALSCALE:GREGORIAN
METHOD:PUBLISH
X-ORIGINAL-URL:https://neuhaus.org
X-WR-CALDESC:Events for Neuhaus Education Center
REFRESH-INTERVAL;VALUE=DURATION:PT1H
X-Robots-Tag:noindex
X-PUBLISHED-TTL:PT1H
BEGIN:VTIMEZONE
TZID:America/Kentucky/Louisville
BEGIN:DAYLIGHT
TZOFFSETFROM:-0500
TZOFFSETTO:-0400
TZNAME:EDT
DTSTART:20240310T070000
END:DAYLIGHT
BEGIN:STANDARD
TZOFFSETFROM:-0400
TZOFFSETTO:-0500
TZNAME:EST
DTSTART:20241103T060000
END:STANDARD
BEGIN:DAYLIGHT
TZOFFSETFROM:-0500
TZOFFSETTO:-0400
TZNAME:EDT
DTSTART:20250309T070000
END:DAYLIGHT
BEGIN:STANDARD
TZOFFSETFROM:-0400
TZOFFSETTO:-0500
TZNAME:EST
DTSTART:20251102T060000
END:STANDARD
BEGIN:DAYLIGHT
TZOFFSETFROM:-0500
TZOFFSETTO:-0400
TZNAME:EDT
DTSTART:20260308T070000
END:DAYLIGHT
BEGIN:STANDARD
TZOFFSETFROM:-0400
TZOFFSETTO:-0500
TZNAME:EST
DTSTART:20261101T060000
END:STANDARD
END:VTIMEZONE
BEGIN:VEVENT
DTSTART;TZID=America/Kentucky/Louisville:20251211T083000
DTEND;TZID=America/Kentucky/Louisville:20251211T120000
DTSTAMP:20260421T054212
CREATED:20240508T195004Z
LAST-MODIFIED:20260306T185042Z
UID:10000998-1765441800-1765454400@neuhaus.org
SUMMARY:Scientific Spelling (Virtual)
DESCRIPTION:Students’ spelling errors demonstrate what they know and need to know about sounds and letter patterns to develop accurate spelling. By addressing specific needs\, students improve their accuracy and learn how to spell for a lifetime. \nIn Scientific Spelling\, participants learn how to analyze spelling errors and plan instruction to target students’ specific needs. Instruction for participants will include:\nphonemic awareness\, reliable spelling patterns and rules\, and/or strategies for learning words with unexpected spelling. \nParticipants also engage in collaborative activities that extend their learning and can be presented to their students.
URL:https://neuhaus.org/calendar/scientific-spelling-virtual-5/2025-12-11/
LOCATION:Virtual
CATEGORIES:Professional Development Class
END:VEVENT
END:VCALENDAR