BEGIN:VCALENDAR
VERSION:2.0
PRODID:-//Neuhaus Education Center - ECPv6.15.20//NONSGML v1.0//EN
CALSCALE:GREGORIAN
METHOD:PUBLISH
X-WR-CALNAME:Neuhaus Education Center
X-ORIGINAL-URL:https://neuhaus.org
X-WR-CALDESC:Events for Neuhaus Education Center
REFRESH-INTERVAL;VALUE=DURATION:PT1H
X-Robots-Tag:noindex
X-PUBLISHED-TTL:PT1H
BEGIN:VTIMEZONE
TZID:America/Mexico_City
BEGIN:STANDARD
TZOFFSETFROM:-0600
TZOFFSETTO:-0600
TZNAME:CST
DTSTART:20250101T000000
END:STANDARD
END:VTIMEZONE
BEGIN:VEVENT
DTSTART;TZID=America/Mexico_City:20260619T090000
DTEND;TZID=America/Mexico_City:20260619T103000
DTSTAMP:20260422T095815
CREATED:20260107T195514Z
LAST-MODIFIED:20260306T184607Z
UID:10001143-1781859600-1781865000@neuhaus.org
SUMMARY:Strategy Series: Teaching Fluency (Virtual)
DESCRIPTION:Registration: Strategy Series: Teaching Fluency (Virtual)
URL:https://neuhaus.org/calendar/strategy-series-teaching-fluency-virtual/2026-06-19/
END:VEVENT
END:VCALENDAR