BEGIN:VCALENDAR
VERSION:2.0
PRODID:-//Neuhaus Education Center - ECPv6.15.20//NONSGML v1.0//EN
CALSCALE:GREGORIAN
METHOD:PUBLISH
X-WR-CALNAME:Neuhaus Education Center
X-ORIGINAL-URL:https://neuhaus.org
X-WR-CALDESC:Events for Neuhaus Education Center
REFRESH-INTERVAL;VALUE=DURATION:PT1H
X-Robots-Tag:noindex
X-PUBLISHED-TTL:PT1H
BEGIN:VTIMEZONE
TZID:America/Kentucky/Louisville
BEGIN:DAYLIGHT
TZOFFSETFROM:-0500
TZOFFSETTO:-0400
TZNAME:EDT
DTSTART:20240310T070000
END:DAYLIGHT
BEGIN:STANDARD
TZOFFSETFROM:-0400
TZOFFSETTO:-0500
TZNAME:EST
DTSTART:20241103T060000
END:STANDARD
BEGIN:DAYLIGHT
TZOFFSETFROM:-0500
TZOFFSETTO:-0400
TZNAME:EDT
DTSTART:20250309T070000
END:DAYLIGHT
BEGIN:STANDARD
TZOFFSETFROM:-0400
TZOFFSETTO:-0500
TZNAME:EST
DTSTART:20251102T060000
END:STANDARD
BEGIN:DAYLIGHT
TZOFFSETFROM:-0500
TZOFFSETTO:-0400
TZNAME:EDT
DTSTART:20260308T070000
END:DAYLIGHT
BEGIN:STANDARD
TZOFFSETFROM:-0400
TZOFFSETTO:-0500
TZNAME:EST
DTSTART:20261101T060000
END:STANDARD
END:VTIMEZONE
BEGIN:VEVENT
DTSTART;TZID=America/Kentucky/Louisville:20251111T090000
DTEND;TZID=America/Kentucky/Louisville:20251111T150000
DTSTAMP:20260421T120716
CREATED:20231106T113154Z
LAST-MODIFIED:20250729T222545Z
UID:10000614-1762851600-1762873200@neuhaus.org
SUMMARY:Unexpected Underachievement (Virtual)
DESCRIPTION:A difficulty in learning to read or spell that is unexpected in relation to other cognitive abilities could indicate dyslexia or a related disorder. Whether there is a diagnosis or not\, the instruction for students with dyslexia or a related disorder and those who are struggling with reading and spelling is the same. \nIn Unexpected Underachievement\, participants learn: \n\n\n\n\n\n1) models of literacy acquisition;\n2) domains of language and how they impact literacy and learning;\n3) characteristics of dyslexia;\n4) effective activities and strategies for learning to read and spell well; and\n5) appropriate accommodations.
URL:https://neuhaus.org/calendar/unexpected-underachievement-virtual/
LOCATION:Virtual
CATEGORIES:Professional Development Class
END:VEVENT
END:VCALENDAR