BEGIN:VCALENDAR
VERSION:2.0
PRODID:-//Neuhaus Education Center - ECPv6.15.20//NONSGML v1.0//EN
CALSCALE:GREGORIAN
METHOD:PUBLISH
X-ORIGINAL-URL:https://neuhaus.org
X-WR-CALDESC:Events for Neuhaus Education Center
REFRESH-INTERVAL;VALUE=DURATION:PT1H
X-Robots-Tag:noindex
X-PUBLISHED-TTL:PT1H
BEGIN:VTIMEZONE
TZID:America/Kentucky/Louisville
BEGIN:DAYLIGHT
TZOFFSETFROM:-0500
TZOFFSETTO:-0400
TZNAME:EDT
DTSTART:20240310T070000
END:DAYLIGHT
BEGIN:STANDARD
TZOFFSETFROM:-0400
TZOFFSETTO:-0500
TZNAME:EST
DTSTART:20241103T060000
END:STANDARD
BEGIN:DAYLIGHT
TZOFFSETFROM:-0500
TZOFFSETTO:-0400
TZNAME:EDT
DTSTART:20250309T070000
END:DAYLIGHT
BEGIN:STANDARD
TZOFFSETFROM:-0400
TZOFFSETTO:-0500
TZNAME:EST
DTSTART:20251102T060000
END:STANDARD
BEGIN:DAYLIGHT
TZOFFSETFROM:-0500
TZOFFSETTO:-0400
TZNAME:EDT
DTSTART:20260308T070000
END:DAYLIGHT
BEGIN:STANDARD
TZOFFSETFROM:-0400
TZOFFSETTO:-0500
TZNAME:EST
DTSTART:20261101T060000
END:STANDARD
END:VTIMEZONE
BEGIN:VEVENT
DTSTART;TZID=America/Kentucky/Louisville:20250804T090000
DTEND;TZID=America/Kentucky/Louisville:20250805T150000
DTSTAMP:20260419T074601
CREATED:20250418T163854Z
LAST-MODIFIED:20250729T231212Z
UID:10000903-1754298000-1754406000@neuhaus.org
SUMMARY:Structured Reading & Spelling Volume 2 (Virtual)
DESCRIPTION:Structured Reading and Spelling (SRS) Volume 2 training is the next step in professional learning for instructors of high school students and adult learners.  Participants in this two-day\, live virtual training will deepen their understanding of foundational literacy skills\, understand the impact of reduced literacy skills on adults\, and learn research-based methods of instruction specific to an adult learner. \n\n\n\nParticipants will receive SRS Volume 2A Standard\, SRS Volume 2B Standard and SRS Volume 2 Accelerated.  These manuals are fully scripted and include student materials that contain lessons in:  word attack skills for multisyllabic words\, engaging narrative and expository texts\, vocabulary activities\, comprehension and summarization activities\, and advanced grammar skills that aid in composition. \n\n\n\nSRS Volume 1 professional learning is a pre-requisite to this course. \n\n\n\nLearn More About SRS Here
URL:https://neuhaus.org/calendar/structured-reading-spelling-volume-2-virtual/2025-08-04/
CATEGORIES:Professional Development Class,SRS
END:VEVENT
END:VCALENDAR