BEGIN:VCALENDAR
VERSION:2.0
PRODID:-//Neuhaus Education Center - ECPv6.15.20//NONSGML v1.0//EN
CALSCALE:GREGORIAN
METHOD:PUBLISH
X-ORIGINAL-URL:https://neuhaus.org
X-WR-CALDESC:Events for Neuhaus Education Center
REFRESH-INTERVAL;VALUE=DURATION:PT1H
X-Robots-Tag:noindex
X-PUBLISHED-TTL:PT1H
BEGIN:VTIMEZONE
TZID:America/Mexico_City
BEGIN:STANDARD
TZOFFSETFROM:-0600
TZOFFSETTO:-0600
TZNAME:CST
DTSTART:20250101T000000
END:STANDARD
END:VTIMEZONE
BEGIN:VEVENT
DTSTART;TZID=America/Mexico_City:20260303T090000
DTEND;TZID=America/Mexico_City:20260304T090000
DTSTAMP:20260424T065023
CREATED:20260107T182407Z
LAST-MODIFIED:20260107T182409Z
UID:10001073-1772528400-1772614800@neuhaus.org
SUMMARY:Structured Reading & Spelling Volume 2 (Virtual)
DESCRIPTION:Registration: Structured Reading & Spelling Volume 2 (Virtual)
URL:https://neuhaus.org/calendar/structured-reading-spelling-volume-2-virtual-2/
END:VEVENT
BEGIN:VEVENT
DTSTART;TZID=America/Mexico_City:20260303T160000
DTEND;TZID=America/Mexico_City:20260305T160000
DTSTAMP:20260424T065023
CREATED:20260107T153607Z
LAST-MODIFIED:20260107T153609Z
UID:10001055-1772553600-1772726400@neuhaus.org
SUMMARY:Oral Language & Listening Comprehension (Virtual)
DESCRIPTION:Registration: Oral Language & Listening Comprehension (Virtual)
URL:https://neuhaus.org/calendar/oral-language-listening-comprehension-virtual-3/
END:VEVENT
BEGIN:VEVENT
DTSTART;TZID=America/Mexico_City:20260304T090000
DTEND;TZID=America/Mexico_City:20260304T150000
DTSTAMP:20260424T065023
CREATED:20260107T151032Z
LAST-MODIFIED:20260107T151038Z
UID:10001052-1772614800-1772636400@neuhaus.org
SUMMARY:Unexpected Underachievement (Virtual)
DESCRIPTION:Registration: Unexpected Underachievement (Virtual)
URL:https://neuhaus.org/calendar/unexpected-underachievement-virtual-3/
END:VEVENT
BEGIN:VEVENT
DTSTART;TZID=America/Mexico_City:20260304T093000
DTEND;TZID=America/Mexico_City:20260304T110000
DTSTAMP:20260424T065023
CREATED:20260107T193615Z
LAST-MODIFIED:20260107T193619Z
UID:10001091-1772616600-1772622000@neuhaus.org
SUMMARY:Strategy Series: Teaching Vocabulary (In Person)
DESCRIPTION:Registration: Strategy Series: Teaching Vocabulary (In Person)
URL:https://neuhaus.org/calendar/strategy-series-teaching-vocabulary-in-person-2/
END:VEVENT
BEGIN:VEVENT
DTSTART;TZID=America/Mexico_City:20260304T130000
DTEND;TZID=America/Mexico_City:20260304T143000
DTSTAMP:20260424T065023
CREATED:20260107T195922Z
LAST-MODIFIED:20260107T200046Z
UID:10001102-1772629200-1772634600@neuhaus.org
SUMMARY:Strategy Series: Teaching Morphology (In Person)
DESCRIPTION:Registration: Strategy Series: Teaching Morphology (In Person)
URL:https://neuhaus.org/calendar/strategy-series-teaching-morphology-in-person-2/
END:VEVENT
END:VCALENDAR